BEGIN:VCALENDAR
VERSION:2.0
PRODID:-//Careprovider Residential Training Services - ECPv6.15.18//NONSGML v1.0//EN
CALSCALE:GREGORIAN
METHOD:PUBLISH
X-WR-CALNAME:Careprovider Residential Training Services
X-ORIGINAL-URL:https://careprovider.org
X-WR-CALDESC:Events for Careprovider Residential Training Services
REFRESH-INTERVAL;VALUE=DURATION:PT1H
X-Robots-Tag:noindex
X-PUBLISHED-TTL:PT1H
BEGIN:VTIMEZONE
TZID:America/Los_Angeles
BEGIN:DAYLIGHT
TZOFFSETFROM:-0800
TZOFFSETTO:-0700
TZNAME:PDT
DTSTART:20250309T100000
END:DAYLIGHT
BEGIN:STANDARD
TZOFFSETFROM:-0700
TZOFFSETTO:-0800
TZNAME:PST
DTSTART:20251102T090000
END:STANDARD
BEGIN:DAYLIGHT
TZOFFSETFROM:-0800
TZOFFSETTO:-0700
TZNAME:PDT
DTSTART:20260308T100000
END:DAYLIGHT
BEGIN:STANDARD
TZOFFSETFROM:-0700
TZOFFSETTO:-0800
TZNAME:PST
DTSTART:20261101T090000
END:STANDARD
BEGIN:DAYLIGHT
TZOFFSETFROM:-0800
TZOFFSETTO:-0700
TZNAME:PDT
DTSTART:20270314T100000
END:DAYLIGHT
BEGIN:STANDARD
TZOFFSETFROM:-0700
TZOFFSETTO:-0800
TZNAME:PST
DTSTART:20271107T090000
END:STANDARD
END:VTIMEZONE
BEGIN:VEVENT
DTSTART;TZID=America/Los_Angeles:20260619T000000
DTEND;TZID=America/Los_Angeles:20260619T235900
DTSTAMP:20260423T014351
CREATED:20230328T061935Z
LAST-MODIFIED:20260306T175112Z
UID:10004268-1781827200-1781913540@careprovider.org
SUMMARY:Juneteenth
DESCRIPTION:A holiday celebrated on June 19 to commemorate the emancipation of enslaved people in the US. The holiday was first celebrated in Texas\, where on that date in 1865\, in the aftermath of the Civil War\, enslaved people were declared free under the terms of the 1862 Emancipation Proclamation. \nTo learn about the history of Juneteenth click HERE \n  \n \n 
URL:https://careprovider.org/event/juneteenth/2026-06-19/
LOCATION:Holiday
CATEGORIES:Holiday
ATTACH;FMTTYPE=image/jpeg:https://careprovider.org/wp-content/uploads/juneteenth.jpg
ORGANIZER;CN="Careprovider Residential Training":MAILTO:info@CareproviderResidentialTraining.org
END:VEVENT
BEGIN:VEVENT
DTSTART;TZID=America/Los_Angeles:20260621T000000
DTEND;TZID=America/Los_Angeles:20260621T235900
DTSTAMP:20260423T014351
CREATED:20230328T214301Z
LAST-MODIFIED:20260306T175953Z
UID:10000515-1782000000-1782086340@careprovider.org
SUMMARY:Happy Fathers Day
DESCRIPTION:Father’s Day is a holiday of honoring fatherhood and paternal bonds\, as well as the influence of fathers in society. \nTo know more about the history of fathers day click HERE \n 
URL:https://careprovider.org/event/happy-fathers-day/
LOCATION:LIVE ZOOM TRAINING\, CA\, United States
CATEGORIES:40 CEU Bundle,Adult,ARF Initial,CEU Training,Children,Elderly,GH,GH Initial,Holiday,In-service,Initial Training,PAI Inservice,proAct Initial,ProAct Recert,STRTP,STRTP Initial
ATTACH;FMTTYPE=image/jpeg:https://careprovider.org/wp-content/uploads/happy-fathers-day.jpg
ORGANIZER;CN="Careprovider Residential Training":MAILTO:info@CareproviderResidentialTraining.org
END:VEVENT
END:VCALENDAR