BEGIN:VCALENDAR
VERSION:2.0
PRODID:-//Careprovider Residential Training Services - ECPv6.15.18//NONSGML v1.0//EN
CALSCALE:GREGORIAN
METHOD:PUBLISH
X-WR-CALNAME:Careprovider Residential Training Services
X-ORIGINAL-URL:https://careprovider.org
X-WR-CALDESC:Events for Careprovider Residential Training Services
REFRESH-INTERVAL;VALUE=DURATION:PT1H
X-Robots-Tag:noindex
X-PUBLISHED-TTL:PT1H
BEGIN:VTIMEZONE
TZID:America/Los_Angeles
BEGIN:DAYLIGHT
TZOFFSETFROM:-0800
TZOFFSETTO:-0700
TZNAME:PDT
DTSTART:20250309T100000
END:DAYLIGHT
BEGIN:STANDARD
TZOFFSETFROM:-0700
TZOFFSETTO:-0800
TZNAME:PST
DTSTART:20251102T090000
END:STANDARD
BEGIN:DAYLIGHT
TZOFFSETFROM:-0800
TZOFFSETTO:-0700
TZNAME:PDT
DTSTART:20260308T100000
END:DAYLIGHT
BEGIN:STANDARD
TZOFFSETFROM:-0700
TZOFFSETTO:-0800
TZNAME:PST
DTSTART:20261101T090000
END:STANDARD
BEGIN:DAYLIGHT
TZOFFSETFROM:-0800
TZOFFSETTO:-0700
TZNAME:PDT
DTSTART:20270314T100000
END:DAYLIGHT
BEGIN:STANDARD
TZOFFSETFROM:-0700
TZOFFSETTO:-0800
TZNAME:PST
DTSTART:20271107T090000
END:STANDARD
END:VTIMEZONE
BEGIN:VEVENT
DTSTART;TZID=America/Los_Angeles:20260523T080000
DTEND;TZID=America/Los_Angeles:20260523T170000
DTSTAMP:20260422T194114
CREATED:20260306T044658Z
LAST-MODIFIED:20260312T013110Z
UID:10004244-1779523200-1779555600@careprovider.org
SUMMARY:ARF Administrator 35hr Initial Certification Training
DESCRIPTION:ATTENDEE MUST BE ON CAMERA\, EXCEPT DURING BREAKS!!\nYou can still purchase this 5 day training after it has started. \nCOURSE SCHEDULE\n\n\n Saturday\, 05/23/26 @ 8am to 6pm\nLAWS & REGULATIONS\nBUSINESS OPERATIONS\nSunday\,05/24/26 @ 8am to 6pm\nMANAGEMENT\, SUPERVISION OF STAFF\nCOMMUNITY/SUPPORT SERVICES\nADMISSION\, ASSESSMENT & RETENTION\nSaturday\,05/30/26 @ 8am to 6pm\nPHYSICAL NEEDS\nPSYCHO-SOCIAL NEEDS\nCULTURAL COMPETENCE\nSunday\,05/31/26 @ 8am to 5pm    \nMEDICATIONS\nEMERGENCY INTERVENTION (NON-VIOLENT)\n\n\nIMPORTANT: ARF administrators are required to take 4hrs OF HIV/TB training within 6 months of receiving their certificate from CA Department of Social Services.\n \nClick HERE to register FOR self-paced HIV/TB Online Course. \nClick HERE to register for Live HIV/TB Zoom Course. \n\nLocation: ZOOM\n\nYou will receive zoom invite & handouts\, Via Email 5 days before class starts. \n\nHOURS: 35\nREGULAR PRICE: $450\nEARLY BIRD PRICE: $410\nListed PRICE covers 35 hours/4 days \n***NOTE: Advertised price is Early bird price and requires at least a 14-day advance purchase. \nNOTE: If you want paper handouts contact us\, at least 14 days prior to class. Additional fees apply. \n\nARF ICTP: ADULT RESIDENTIAL FACILITY (ARF)\, INITIAL CERTIFICATION TRAINING PROGRAM (ICTP) FOR PEOPLE WHO WISH TO BECOME ADMINISTRATORS OF HOMES\,   FACILITIES OR PROGRAMS for adult clients 18 years through 59 years. \nThe Administrator Certification course is a legislatively mandated program designed and intended to upgrade the knowledge and education levels of persons wishing to become administrators of Adult Residential Facility through a certification process. The training programs developed have been incorporated to meet the Department of Social Services\, Community Care Licensing Requirements\, for administrators.  Per Title 22\, Division 6\, Chapter 6\, Section 80064.2 \nThe Initial training program is a 35-hour instruction program required to be completed by persons who wish to become certified facility administrators for the first time. \n\nIMPORTANT: PLEASE DO NOT SKIP THIS SECTION\nExam Requirements & Resources for Administrators
URL:https://careprovider.org/event/arf-administrator-35hr-initial-certification-training-17/
LOCATION:LIVE ZOOM TRAINING\, CA\, United States
CATEGORIES:ARF Initial,Initial Training
ATTACH;FMTTYPE=image/jpeg:https://careprovider.org/wp-content/uploads/arf-ictp-shutterstock_2112496562.jpg
ORGANIZER;CN="Careprovider Residential Training":MAILTO:info@CareproviderResidentialTraining.org
END:VEVENT
END:VCALENDAR