BEGIN:VCALENDAR
VERSION:2.0
PRODID:-//Careprovider Residential Training Services - ECPv6.15.18//NONSGML v1.0//EN
CALSCALE:GREGORIAN
METHOD:PUBLISH
X-WR-CALNAME:Careprovider Residential Training Services
X-ORIGINAL-URL:https://careprovider.org
X-WR-CALDESC:Events for Careprovider Residential Training Services
REFRESH-INTERVAL;VALUE=DURATION:PT1H
X-Robots-Tag:noindex
X-PUBLISHED-TTL:PT1H
BEGIN:VTIMEZONE
TZID:America/Los_Angeles
BEGIN:DAYLIGHT
TZOFFSETFROM:-0800
TZOFFSETTO:-0700
TZNAME:PDT
DTSTART:20250309T100000
END:DAYLIGHT
BEGIN:STANDARD
TZOFFSETFROM:-0700
TZOFFSETTO:-0800
TZNAME:PST
DTSTART:20251102T090000
END:STANDARD
BEGIN:DAYLIGHT
TZOFFSETFROM:-0800
TZOFFSETTO:-0700
TZNAME:PDT
DTSTART:20260308T100000
END:DAYLIGHT
BEGIN:STANDARD
TZOFFSETFROM:-0700
TZOFFSETTO:-0800
TZNAME:PST
DTSTART:20261101T090000
END:STANDARD
BEGIN:DAYLIGHT
TZOFFSETFROM:-0800
TZOFFSETTO:-0700
TZNAME:PDT
DTSTART:20270314T100000
END:DAYLIGHT
BEGIN:STANDARD
TZOFFSETFROM:-0700
TZOFFSETTO:-0800
TZNAME:PST
DTSTART:20271107T090000
END:STANDARD
END:VTIMEZONE
BEGIN:VEVENT
DTSTART;TZID=America/Los_Angeles:20260605T130000
DTEND;TZID=America/Los_Angeles:20260605T170000
DTSTAMP:20260424T021308
CREATED:20260306T201935Z
LAST-MODIFIED:20260403T184058Z
UID:10004272-1780664400-1780678800@careprovider.org
SUMMARY:20hr CeuBundle2
DESCRIPTION:Schedule of Classes:\n\nALL COURSES BELOW ARE APPROVED FOR: ARF\, GH\, RCFE\, & STRTP ADMINISTRATORS \n\n\n06/05/2026 Sexual Harassment   CEU: 4     *** Laws\, Regulations\, Policy \n \n\nWednesday @ 1-5pm\n\n\n\n\n\n06/09/2026 Supervising Others    CEU: 8             \n\nTuesday @ 9:00 AM – 6:00 PM\n\n\n\n\n\n06/19/2026 Diversity & Inclusion    CEU: 8    *** LGBT/Cultural competence \n \n\nFriday @ 9:00 AM – 6:00 PM\n\n\n\n\nBundle Description\nClick Here for =>>    Administrator Renewal Requirements \nREGULAR PRICE: $255\nEARLY BIRD PRICE: $245 Early Bird requires a 14-day advance purchase.\nCEUs: 20\nFOR: ARF\, GH\, RCFE & STRTP ADMINISTRATORS\, MANAGERS\, DIRECT CARE STAFF\, FOSTER PARENTS AND ALL STAFF WORKING IN THE RESIDENTIAL CARE INDUSTRY \nLOCATION: ZOOM\nATTENDEE MUST BE ON CAMERA\, EXCEPT DURING BREAKS\nZOOM invite & handout will be sent 2 days prior to class. \nPaper handouts available for extra fee.\n \n\nARF ADMINISTRATORS NOTE: \nHIV/TB IS NOT INCLUDED IN ANY BUNDLE and is priced separately. Per CDSS HIV/TB is mandatory for all ARF Admins every 2 yr cycle. \nYour Options: \n\nRegister for self-paced 4 hr HIV/TB by clicking HERE.\nRegister for live zoom 4 hr HIV/TB by clicking HERE.\nSwap out any 4 hr course in the bundle\, except Sexual Harassment\, and take HIV/TB – for no additional cost.\n\nIf you choose option # 3\, please add a note during the registration process. \n\nBundle Description\nAll Facility Administrators (ARF\, GH\, RCFE\, & STRTP) certified by California Department of Social Services\, Community Care Licensing are required to take 40 hours of continuing education units (ceu) every 2-year cycle to re-certify their administrator certificate\, in order to keep it current. Managers and Direct Care Staff of all facility types can take the above courses to satisfy mandated in-service training requirements. \nIMPORTANT:\nThis training course bundle provides a discounted price for paying for a group of courses\, you are not required to take all the courses in the bundle\, however you will not receive a refund if you do not attend any of the classes in the bundle. Each time you reschedule ANY classes to a different date outside of the bundle dates there will be a $30 ReSchedule fee. For more information\, please read the Class attendance & Cancellation policy seen below. \n  \nMandatory Course Work for certified Facility Administrators: \nMandatory For RCFE (Elderly) Administrator – 8 hrs of Dementia. Click here to purchase online Dementia courses. \nMandatory For All Administrators – at least 1 hour of LGBT training & at least 4 hours of training approved for Laws & Regulations (Sexual Harassment\, Facility Residence Management 1 & 2\, HIPAA 101).
URL:https://careprovider.org/event/20hr-ceubundle2-14/
LOCATION:LIVE ZOOM TRAINING\, CA\, United States
CATEGORIES:20 CEU Bundle,Adult,CEU Training,Children,Elderly,GH,STRTP
ATTACH;FMTTYPE=image/jpeg:https://careprovider.org/wp-content/uploads/IMG_1960.jpeg
ORGANIZER;CN="Careprovider Residential Training":MAILTO:info@CareproviderResidentialTraining.org
END:VEVENT
END:VCALENDAR